BEGIN:VCALENDAR
VERSION:2.0
PRODID:-//GroupSpaces//NONSGML GS_IcalFeed//EN
X-WR-CALNAME:Christmas Best Pairs - Kartsport Southland
CALSCALE:GREGORIAN
METHOD:PUBLISH
BEGIN:VEVENT
DTSTAMP:20180122T094702Z
UID:20151208T095153Z_1025640@groupspaces.com
DTSTART:20151212T210000Z
SUMMARY:Christmas Best Pairs
DTEND:20151213T040000Z
DESCRIPTION:Scrutineering and entry start at 10am. Racing starts approx 12
 pm\, Drivers will be randomly paired up and the winners are the pair with 
 the best results between the two them. Expected finish approx. 5pm\, BBQ t
 o follow.
ORGANIZER:Organizer
LOCATION:Invercargill Oil Shop Kart Raceway
CLASS:PUBLIC
END:VEVENT
END:VCALENDAR
