BEGIN:VCALENDAR
VERSION:2.0
PRODID:-//GroupSpaces//NONSGML GS_IcalFeed//EN
X-WR-CALNAME:Summer Club Twilight - 1 - Kartsport Southland
CALSCALE:GREGORIAN
METHOD:PUBLISH
BEGIN:VEVENT
DTSTAMP:20180122T094731Z
UID:20160120T100725Z_1032214@groupspaces.com
DTSTART:20160129T230000Z
SUMMARY:Summer Club Twilight - 1
DTEND:20160130T060000Z
DESCRIPTION:Anti Clockwise direction
ORGANIZER:Organizer
LOCATION:Invercargill Oil Shop Kart Raceway
CLASS:PUBLIC
END:VEVENT
END:VCALENDAR
