BEGIN:VCALENDAR
VERSION:2.0
PRODID:-//GroupSpaces//NONSGML GS_IcalFeed//EN
X-WR-CALNAME:Summer Club Twilight - 2 - Kartsport Southland
CALSCALE:GREGORIAN
METHOD:PUBLISH
BEGIN:VEVENT
DTSTAMP:20180122T094702Z
UID:20160120T101010Z_1032215@groupspaces.com
DTSTART:20160212T230000Z
SUMMARY:Summer Club Twilight - 2
DTEND:20160213T060000Z
DESCRIPTION:Clockwise direction
ORGANIZER:Organizer
LOCATION:Invercargill Oil Shop Kart Raceway
CLASS:PUBLIC
END:VEVENT
END:VCALENDAR
