BEGIN:VCALENDAR
VERSION:2.0
PRODID:-//GroupSpaces//NONSGML GS_IcalFeed//EN
X-WR-CALNAME:Club Champs - 1 - Kartsport Southland
CALSCALE:GREGORIAN
METHOD:PUBLISH
BEGIN:VEVENT
DTSTAMP:20180122T094640Z
UID:20160120T101253Z_1032216@groupspaces.com
DTSTART:20160305T200000Z
SUMMARY:Club Champs - 1
DTEND:20160306T040000Z
DESCRIPTION:Anti Clockwise direction
ORGANIZER:Organizer
LOCATION:Invercargill Oil Shop Kart Raceway
CLASS:PUBLIC
END:VEVENT
END:VCALENDAR
