BEGIN:VCALENDAR
VERSION:2.0
PRODID:-//GroupSpaces//NONSGML GS_IcalFeed//EN
X-WR-CALNAME:Southland Spirit of a Nation Champs - Kartsport Southland
CALSCALE:GREGORIAN
METHOD:PUBLISH
BEGIN:VEVENT
DTSTAMP:20180122T094536Z
UID:20160120T101543Z_1032217@groupspaces.com
DTSTART:20160415T193000Z
SUMMARY:Southland Spirit of a Nation Champs
DESCRIPTION:Permited event\, details in events supplementary rules.
ORGANIZER:Organizer
LOCATION:Invercargill Oil Shop Kart Raceway
CLASS:PUBLIC
END:VEVENT
END:VCALENDAR
