BEGIN:VCALENDAR
VERSION:2.0
PRODID:-//GroupSpaces//NONSGML GS_IcalFeed//EN
X-WR-CALNAME:Club Day - Kartsport Southland
CALSCALE:GREGORIAN
METHOD:PUBLISH
BEGIN:VEVENT
DTSTAMP:20180122T094549Z
UID:20160120T102529Z_1032222@groupspaces.com
DTSTART:20160521T210000Z
SUMMARY:Club Day
DTEND:20160522T050000Z
DESCRIPTION:Anti Clockwise direction
ORGANIZER:Organizer
LOCATION:Invercargill Oil Shop Kart Raceway
CLASS:PUBLIC
END:VEVENT
END:VCALENDAR
