BEGIN:VCALENDAR
VERSION:2.0
PRODID:-//GroupSpaces//NONSGML GS_IcalFeed//EN
X-WR-CALNAME:Club Champs - 2 - Kartsport Southland
CALSCALE:GREGORIAN
METHOD:PUBLISH
BEGIN:VEVENT
DTSTAMP:20180122T094529Z
UID:20160318T194545Z_1047447@groupspaces.com
DTSTART:20160430T210000Z
SUMMARY:Club Champs - 2
DTEND:20160501T050000Z
DESCRIPTION:Conclusion of Club Champs. Race direction - clockwise.
ORGANIZER:Organizer
LOCATION:Invercargill Oil Shop Kart Raceway
CLASS:PUBLIC
END:VEVENT
END:VCALENDAR
