BEGIN:VCALENDAR
VERSION:2.0
PRODID:-//GroupSpaces//NONSGML GS_IcalFeed//EN
X-WR-CALNAME:Winter Club Day - 1 - Kartsport Southland
CALSCALE:GREGORIAN
METHOD:PUBLISH
BEGIN:VEVENT
DTSTAMP:20180122T094524Z
UID:20160318T204609Z_1047473@groupspaces.com
DTSTART:20160618T203000Z
SUMMARY:Winter Club Day - 1
DTEND:20160619T043000Z
DESCRIPTION:Winter Club Day points round 1. Club Annual General Meeting at
  the end of racing.
ORGANIZER:Organizer
LOCATION:Invercargill OIl Shop Kart Raceway
CLASS:PUBLIC
END:VEVENT
END:VCALENDAR
