BEGIN:VCALENDAR
VERSION:2.0
PRODID:-//GroupSpaces//NONSGML GS_IcalFeed//EN
X-WR-CALNAME:Club Annual Prize Giving - Kartsport Southland
CALSCALE:GREGORIAN
METHOD:PUBLISH
BEGIN:VEVENT
DTSTAMP:20180122T094422Z
UID:20160318T205359Z_1047479@groupspaces.com
DTSTART:20160722T063000Z
SUMMARY:Club Annual Prize Giving
DTEND:20160722T090000Z
DESCRIPTION:Annual prize giving
ORGANIZER:Organizer
LOCATION:To be advised
CLASS:PUBLIC
END:VEVENT
END:VCALENDAR
