BEGIN:VCALENDAR
VERSION:2.0
PRODID:-//GroupSpaces//NONSGML GS_IcalFeed//EN
X-WR-CALNAME:Winter Club Day - 2 - Kartsport Southland
CALSCALE:GREGORIAN
METHOD:PUBLISH
BEGIN:VEVENT
DTSTAMP:20180122T094446Z
UID:20160318T205828Z_1047483@groupspaces.com
DTSTART:20160722T203000Z
SUMMARY:Winter Club Day - 2
DTEND:20160723T040000Z
DESCRIPTION:Winter Club Day Points Round 2. Note this is a Saturday.
ORGANIZER:Organizer
LOCATION:Invercargill OIl Shop Kart Raceway
CLASS:PUBLIC
END:VEVENT
END:VCALENDAR
