BEGIN:VCALENDAR
VERSION:2.0
PRODID:-//GroupSpaces//NONSGML GS_IcalFeed//EN
X-WR-CALNAME:Winter Club Day - 3 - Kartsport Southland
CALSCALE:GREGORIAN
METHOD:PUBLISH
BEGIN:VEVENT
DTSTAMP:20180122T094349Z
UID:20160318T210057Z_1047486@groupspaces.com
DTSTART:20160806T203000Z
SUMMARY:Winter Club Day - 3
DTEND:20160807T043000Z
DESCRIPTION:Winter Club Day Round 3 and conclusion of Winter points\, priz
 e giving at conclusion of racing.
ORGANIZER:Organizer
LOCATION:Invercargill OIl Shop Kart Raceway
CLASS:PUBLIC
END:VEVENT
END:VCALENDAR
