BEGIN:VCALENDAR
VERSION:2.0
PRODID:-//GroupSpaces//NONSGML GS_IcalFeed//EN
X-WR-CALNAME:Southern Series - Day 2 - Kartsport Southland
CALSCALE:GREGORIAN
METHOD:PUBLISH
BEGIN:VEVENT
DTSTAMP:20180122T094402Z
UID:20160614T092450Z_1062840@groupspaces.com
DTSTART:20160903T193000Z
SUMMARY:Southern Series - Day 2
DTEND:20160904T050000Z
DESCRIPTION:Southern Series Day 2\, part of Mainland Series
ORGANIZER:Organizer
LOCATION:Silverstream Raceway - Dunedin
CLASS:PUBLIC
END:VEVENT
END:VCALENDAR
