BEGIN:VCALENDAR
VERSION:2.0
PRODID:-//GroupSpaces//NONSGML GS_IcalFeed//EN
X-WR-CALNAME:Kartsport Southland Twilight - Xmas Pairs - Kartsport Southland
CALSCALE:GREGORIAN
METHOD:PUBLISH
BEGIN:VEVENT
DTSTAMP:20181220T052148Z
UID:20171214T215604Z_1153219@groupspaces.com
DTSTART:20181207T230000Z
SUMMARY:Kartsport Southland Twilight - Xmas Pairs
DTEND:20181208T063000Z
DESCRIPTION:Kartsport Southland Twilight - Xmas Pairs
ORGANIZER:Organizer
LOCATION:Invercargill Oil Shop Kart Raceway
CLASS:PUBLIC
END:VEVENT
END:VCALENDAR
