BEGIN:VCALENDAR
VERSION:2.0
PRODID:-//GroupSpaces//NONSGML GS_IcalFeed//EN
X-WR-CALNAME:Summer Twilight 1 - Anti-clockwise - Kartsport Southland
CALSCALE:GREGORIAN
METHOD:PUBLISH
BEGIN:VEVENT
DTSTAMP:20181220T052103Z
UID:20181120T064649Z_1195557@groupspaces.com
DTSTART:20190125T110000Z
SUMMARY:Summer Twilight 1 - Anti-clockwise
DESCRIPTION:Afternoon timetable
ORGANIZER:Organizer
LOCATION:Invercargill Oil Shop Kart Raceway
CLASS:PUBLIC
END:VEVENT
END:VCALENDAR
