BEGIN:VCALENDAR
VERSION:2.0
PRODID:-//GroupSpaces//NONSGML GS_IcalFeed//EN
X-WR-CALNAME:Southern Series 2014 - Kartsport Southland
CALSCALE:GREGORIAN
METHOD:PUBLISH
BEGIN:VEVENT
DTSTAMP:20180122T095412Z
UID:20140805T020919Z_666228@groupspaces.com
DTSTART:20140822T190000Z
SUMMARY:Southern Series 2014
DESCRIPTION:http://files.groupspaces.com/KartsportSouthland/files/1170715/
 i24x2i1M3Z1HiNVGmhSW/SouthernSeries2014.pdf\n\n**Southern Series 2014**  \
 n  \n \n\n| For those of you going to race at the Southern Series over the
  weekend 23/24 August entries need to be sent in by the Closing Date Frida
 y 15 August. The entry form is attached\, and includes all the rules for t
 he running of the event.\n\nFor those new to this level of event one point
  to emphasise is the time things kick off each day\, you'll see the timeta
 ble in the rules sheet - there is a lot more to get through than our norma
 l club days so everything starts very early. Also available is scrutineeri
 ng and confirmation of entries on the Friday evening\, something else you 
 can take advantage of\, it's all geared towards getting the racing underwa
 y on time on the Saturday morning.\n\n  \n  \n\n\nSingle event over two da
 ys. Entry is only available for the two days - cannot enter for one day on
 ly.    \n  \nEngines will be sealed at the beginning of day 1 and must rem
 ain sealed until the end of day 2.  \n  \nOnly 1 set of tyres is allowed f
 or the 2 days\, these will be marked at the beginning of day 1.  \n  \nLic
 ences must be Minimum C Rating (No Day Licences)  \n  \n**Mainland Series*
 *  \nThis event consititutes Round 4 & 5 of the 2014 Mainland Series.
ORGANIZER:Organizer
LOCATION:Invercargill Saturday & Dunedin Sunday
CLASS:PUBLIC
END:VEVENT
END:VCALENDAR
