BEGIN:VCALENDAR
VERSION:2.0
PRODID:-//GroupSpaces//NONSGML GS_IcalFeed//EN
X-WR-CALNAME:2nd Round Winter Series - Kartsport Southland
CALSCALE:GREGORIAN
METHOD:PUBLISH
BEGIN:VEVENT
DTSTAMP:20180122T095341Z
UID:20140909T202422Z_673926@groupspaces.com
DTSTART:20140920T193000Z
SUMMARY:2nd Round Winter Series
DESCRIPTION:2nd Round Winter Series
ORGANIZER:Organizer
LOCATION:Invercargill Kart Club
CLASS:PUBLIC
END:VEVENT
END:VCALENDAR
