BEGIN:VCALENDAR
VERSION:2.0
PRODID:-//GroupSpaces//NONSGML GS_IcalFeed//EN
X-WR-CALNAME:2014 Enduro  - Kartsport Southland
CALSCALE:GREGORIAN
METHOD:PUBLISH
BEGIN:VEVENT
DTSTAMP:20180122T095240Z
UID:20141117T200439Z_773762@groupspaces.com
DTSTART:20141205T230000Z
SUMMARY:2014 Enduro 
DTEND:20141206T050000Z
DESCRIPTION:***Invercargill Kart Club - **Enduro  \nNOW   \nSaturday 6 Dec
 ember***\n\n 
ORGANIZER:Organizer
LOCATION:Invercargill Kart Club
CLASS:PUBLIC
END:VEVENT
END:VCALENDAR
