BEGIN:VCALENDAR
VERSION:2.0
PRODID:-//GroupSpaces//NONSGML GS_IcalFeed//EN
X-WR-CALNAME:Summer Twilight Series - Kartsport Southland
CALSCALE:GREGORIAN
METHOD:PUBLISH
BEGIN:VEVENT
DTSTAMP:20180122T095216Z
UID:20150113T101107Z_883031@groupspaces.com
DTSTART:20150116T230000Z
SUMMARY:Summer Twilight Series
DTEND:20150117T060000Z
DESCRIPTION:First race event for 2015\, all helmets will need checked and 
 stickered for the year. Please locate your helmets manufacture date label 
 ready to show it to the race officials.
ORGANIZER:Organizer
LOCATION:Invercargill OIl Shop Kart Raceway
CLASS:PUBLIC
END:VEVENT
END:VCALENDAR
