BEGIN:VCALENDAR
VERSION:2.0
PRODID:-//GroupSpaces//NONSGML GS_IcalFeed//EN
X-WR-CALNAME:Club Twilight Meeting - Kartsport Southland
CALSCALE:GREGORIAN
METHOD:PUBLISH
BEGIN:VEVENT
DTSTAMP:20180122T095157Z
UID:20150209T033822Z_940625@groupspaces.com
DTSTART:20150213T230000Z
SUMMARY:Club Twilight Meeting
DTEND:20150214T060000Z
DESCRIPTION:Club Twilight Meeting
ORGANIZER:Organizer
LOCATION:Invercargill Kart Club
CLASS:PUBLIC
END:VEVENT
END:VCALENDAR
