BEGIN:VCALENDAR
VERSION:2.0
PRODID:-//GroupSpaces//NONSGML GS_IcalFeed//EN
X-WR-CALNAME:Kartsport Southland Club Championship - 2015 - Kartsport Southland
CALSCALE:GREGORIAN
METHOD:PUBLISH
BEGIN:VEVENT
DTSTAMP:20180122T095213Z
UID:20150209T034551Z_940637@groupspaces.com
DTSTART:20150228T183000Z
SUMMARY:Kartsport Southland Club Championship - 2015
DTEND:20150301T033000Z
DESCRIPTION:**Kartsport Southland Club Championship - 2015  \n  \n  \n  \n
 First Round – Anticlockwise (Normal) Direction - ****Sunday 1 March 2015**
 \n\n**Second Round – Clockwise (Reverse) Direction - ****Sunday 10 May 201
 5**\n\nhttp://files.groupspaces.com/KartsportSouthland/files/1349933/WTQqv
 llZNYTEv1hRp9nh/Club_Champs_15_Rules.pdf
ORGANIZER:Organizer
CLASS:PUBLIC
END:VEVENT
END:VCALENDAR
