BEGIN:VCALENDAR
VERSION:2.0
PRODID:-//GroupSpaces//NONSGML GS_IcalFeed//EN
X-WR-CALNAME:Spirit Champs - Kartsport Southland
CALSCALE:GREGORIAN
METHOD:PUBLISH
BEGIN:VEVENT
DTSTAMP:20180122T095149Z
UID:20150213T011153Z_946772@groupspaces.com
DTSTART:20150424T190000Z
SUMMARY:Spirit Champs
DESCRIPTION:**Entrys close Saturday for the Spirit Champs**  \n\n\n  \nSpi
 rit Champs enty form attached   \n  \nSpiritChamps _15_RulesEntry.pdf <htt
 p://files.groupspaces.com/KartsportSouthland/files/1378384/rCFAikmynAMUXqC
 2XOfp/SpiritChamps+_15_RulesEntry.pdf>
ORGANIZER:Organizer
LOCATION:Invercargill Kart Club
CLASS:PUBLIC
END:VEVENT
END:VCALENDAR
