BEGIN:VCALENDAR
VERSION:2.0
PRODID:-//GroupSpaces//NONSGML GS_IcalFeed//EN
X-WR-CALNAME:Club Day - Kartsport Southland
CALSCALE:GREGORIAN
METHOD:PUBLISH
BEGIN:VEVENT
DTSTAMP:20180122T095135Z
UID:20150316T192757Z_960925@groupspaces.com
DTSTART:20150321T183000Z
SUMMARY:Club Day
DTEND:20150322T030000Z
DESCRIPTION:Club Day  \n  \nThis will be the same rules as Spirit Champs  
 \n  \nhttp://files.groupspaces.com/KartsportSouthland/files/1367611/6X_CUN
 Oio3PB4Urw4Mad/Club_Day_CIK_Rules.pdf
ORGANIZER:Organizer
LOCATION:Invercargill Kart Club
CLASS:PUBLIC
END:VEVENT
END:VCALENDAR
