BEGIN:VCALENDAR
VERSION:2.0
PRODID:-//GroupSpaces//NONSGML GS_IcalFeed//EN
X-WR-CALNAME:Club Champs Round 2 - Kartsport Southland
CALSCALE:GREGORIAN
METHOD:PUBLISH
BEGIN:VEVENT
DTSTAMP:20180122T095056Z
UID:20150316T193219Z_960933@groupspaces.com
DTSTART:20150516T193000Z
SUMMARY:Club Champs Round 2
DTEND:20150517T040000Z
DESCRIPTION:Club Champs Round 2
ORGANIZER:Organizer
LOCATION:Invercargill Kart Club
CLASS:PUBLIC
END:VEVENT
END:VCALENDAR
