BEGIN:VCALENDAR
VERSION:2.0
PRODID:-//GroupSpaces//NONSGML GS_IcalFeed//EN
X-WR-CALNAME:Club Day - Kartsport Southland
CALSCALE:GREGORIAN
METHOD:PUBLISH
BEGIN:VEVENT
DTSTAMP:20180122T094947Z
UID:20150316T193343Z_960934@groupspaces.com
DTSTART:20150606T200000Z
SUMMARY:Club Day
DTEND:20150607T040000Z
DESCRIPTION:Club Day
ORGANIZER:Organizer
LOCATION:Invercargill Kart Club
CLASS:PUBLIC
END:VEVENT
END:VCALENDAR
