BEGIN:VCALENDAR
VERSION:2.0
PRODID:-//GroupSpaces//NONSGML GS_IcalFeed//EN
X-WR-CALNAME:Winter Series Round 1 - AGM - Kartsport Southland
CALSCALE:GREGORIAN
METHOD:PUBLISH
BEGIN:VEVENT
DTSTAMP:20180122T095015Z
UID:20150316T193642Z_960940@groupspaces.com
DTSTART:20150627T200000Z
SUMMARY:Winter Series Round 1 - AGM
DTEND:20150628T060000Z
DESCRIPTION:Winter Series Round 1/AGM\n\nSunday 28 June will be our AGM at
  the conclusion of racing.\n\nIt is important that club members attend the
  meeting where the governance of the club will be set up for the next 12 m
 onths\, ie the members elect the committee to represent them and give dire
 ction for that committee to follow.
ORGANIZER:Organizer
LOCATION:Invercargill Kart Club
CLASS:PUBLIC
END:VEVENT
END:VCALENDAR
