BEGIN:VCALENDAR
VERSION:2.0
PRODID:-//GroupSpaces//NONSGML GS_IcalFeed//EN
X-WR-CALNAME:Prize Giving - Kartsport Southland
CALSCALE:GREGORIAN
METHOD:PUBLISH
BEGIN:VEVENT
DTSTAMP:20180122T095000Z
UID:20150519T014611Z_982196@groupspaces.com
DTSTART:20150724T070000Z
SUMMARY:Prize Giving
DTEND:20150724T093000Z
DESCRIPTION:.
ORGANIZER:Organizer
LOCATION:Kelvin Hotel\, 6th Floor function room
CLASS:PUBLIC
END:VEVENT
END:VCALENDAR
