BEGIN:VCALENDAR
VERSION:2.0
PRODID:-//GroupSpaces//NONSGML GS_IcalFeed//EN
X-WR-CALNAME:Winter Series Round 2 - Kartsport Southland
CALSCALE:GREGORIAN
METHOD:PUBLISH
BEGIN:VEVENT
DTSTAMP:20180122T094947Z
UID:20150519T014851Z_982198@groupspaces.com
DTSTART:20150801T200000Z
SUMMARY:Winter Series Round 2
DTEND:20150802T043000Z
DESCRIPTION:**Winter Series Round 2**\n\nWhen: **Sunday\, 2nd August 2015*
 * **at** **8am** - **4:30pm**   \nWhere: Invercargill Kart Club 
ORGANIZER:Organizer
LOCATION:Invercargill Kart Club
CLASS:PUBLIC
END:VEVENT
END:VCALENDAR
