BEGIN:VCALENDAR
VERSION:2.0
PRODID:-//GroupSpaces//NONSGML GS_IcalFeed//EN
X-WR-CALNAME:Southern Series 2015 - Kartsport Southland
CALSCALE:GREGORIAN
METHOD:PUBLISH
BEGIN:VEVENT
DTSTAMP:20180122T094938Z
UID:20150519T015034Z_982200@groupspaces.com
DTSTART:20150821T193000Z
SUMMARY:Southern Series 2015
DESCRIPTION:Southern Series. Entries must be lodged with KartSport Dunedin
  by Friday 14 August on official Entry Form. Minimum Licence Tier 2. Scrut
 ineering available on Friday evening at Invercargill Oil Shop Track.  \n  
 \nhttp://files.groupspaces.com/KartsportSouthland/files/1473157/G3r0UZ13oy
 s1LsZMv7V5/SouthernSeries_2015_Rules_Entry.pdf
ORGANIZER:Organizer
LOCATION:Invercargill Oil Shop Track Saturday & KartSport Dunedin Sunday
CLASS:PUBLIC
END:VEVENT
END:VCALENDAR
