BEGIN:VCALENDAR
VERSION:2.0
PRODID:-//GroupSpaces//NONSGML GS_IcalFeed//EN
X-WR-CALNAME:Club Day - Kartsport Southland
CALSCALE:GREGORIAN
METHOD:PUBLISH
BEGIN:VEVENT
DTSTAMP:20180122T094914Z
UID:20150519T015146Z_982201@groupspaces.com
DTSTART:20150919T200000Z
SUMMARY:Club Day
DTEND:20150920T043000Z
DESCRIPTION:Club Day 20 th September At Invercargill Oil Shop Kart Raceway
   \nhas been cancelled due to lack of people to run the event. 
ORGANIZER:Organizer
CLASS:PUBLIC
END:VEVENT
END:VCALENDAR
