BEGIN:VCALENDAR
VERSION:2.0
PRODID:-//GroupSpaces//NONSGML GS_IcalFeed//EN
X-WR-CALNAME:Club Day - Kartsport Southland
CALSCALE:GREGORIAN
METHOD:PUBLISH
BEGIN:VEVENT
DTSTAMP:20180122T094902Z
UID:20150519T015300Z_982202@groupspaces.com
DTSTART:20151017T190000Z
SUMMARY:Club Day
DTEND:20151018T033000Z
DESCRIPTION:Race Direction - Clockwise (Because our cancelled September ev
 ent was meant to be that direction)
ORGANIZER:Organizer
LOCATION:Invercargill Oil Shop Kart Raceway
CLASS:PUBLIC
END:VEVENT
END:VCALENDAR
