BEGIN:VCALENDAR
VERSION:2.0
PRODID:-//GroupSpaces//NONSGML GS_IcalFeed//EN
X-WR-CALNAME:Enduro 2015 - Kartsport Southland
CALSCALE:GREGORIAN
METHOD:PUBLISH
BEGIN:VEVENT
DTSTAMP:20180122T094831Z
UID:20150519T015407Z_982203@groupspaces.com
DTSTART:20151121T210000Z
SUMMARY:Enduro 2015
DESCRIPTION:Enduro 2015\n\nScrutineering and entry start at 10am Racing st
 arts at 12pm\, expected finish approx. 5pm Cadet and Junior Classes Winner
 s keepsake trophy Seniors spot prizes\, including hard luck prize
ORGANIZER:Organizer
LOCATION:Invercargill Kart Club
CLASS:PUBLIC
END:VEVENT
END:VCALENDAR
