BEGIN:VCALENDAR
VERSION:2.0
PRODID:-//GroupSpaces//NONSGML GS_IcalFeed//EN
X-WR-CALNAME:Training Day - Kartsport Southland
CALSCALE:GREGORIAN
METHOD:PUBLISH
BEGIN:VEVENT
DTSTAMP:20180122T094806Z
UID:20150702T200057Z_990826@groupspaces.com
DTSTART:20150718T010000Z
SUMMARY:Training Day
DTEND:20150718T040000Z
DESCRIPTION:18 July – From 1:00 at the track\, Membership gathering.\n\nTr
 aining on a few karting topics\, aimed at newer members to help them progr
 ess.\n\nA good fellowship session for all.\n\n\n\n24 July  - From 7:00pm P
 rize Giving\, we’re having difficulty finding a venue available at this st
 age.\n\nAll those with Club Trophies from last year please return the Inve
 rcargill Oil Shop by Friday 10 July.
ORGANIZER:Organizer
LOCATION:Invercargill Kart Club
CLASS:PUBLIC
END:VEVENT
END:VCALENDAR
